BEGIN:VCALENDAR
VERSION:2.0
PRODID:-//Elena Koltsaki &amp; associates - ECPv5.4.0.2//NONSGML v1.0//EN
CALSCALE:GREGORIAN
METHOD:PUBLISH
X-WR-CALNAME:Elena Koltsaki &amp; associates
X-ORIGINAL-URL:https://eklaw.gr
X-WR-CALDESC:Events for Elena Koltsaki &amp; associates
BEGIN:VTIMEZONE
TZID:Europe/Athens
BEGIN:DAYLIGHT
TZOFFSETFROM:+0200
TZOFFSETTO:+0300
TZNAME:EEST
DTSTART:20190331T010000
END:DAYLIGHT
BEGIN:STANDARD
TZOFFSETFROM:+0300
TZOFFSETTO:+0200
TZNAME:EET
DTSTART:20191027T010000
END:STANDARD
END:VTIMEZONE
BEGIN:VEVENT
DTSTART;VALUE=DATE:20190207
DTEND;VALUE=DATE:20190214
DTSTAMP:20260420T133509
CREATED:20181221T082916Z
LAST-MODIFIED:20210312T185600Z
UID:1044-1549497600-1550102399@eklaw.gr
SUMMARY:14th ICC International Commercial Mediation Competition
DESCRIPTION:
URL:https://eklaw.gr/?tribe_events=icc-mediation-competition
LOCATION:ICC\, Paris\, France
ATTACH;FMTTYPE=image/png:https://eklaw.gr/law/wp-content/uploads/2018/12/Epigrafi_Koltsaki_540x185image2.png
END:VEVENT
END:VCALENDAR